BEGIN:VCALENDAR
VERSION:2.0
PRODID:-//Middle East Gamer - ECPv6.8.2.1//NONSGML v1.0//EN
CALSCALE:GREGORIAN
METHOD:PUBLISH
X-WR-CALNAME:Middle East Gamer
X-ORIGINAL-URL:https://www.middleeastgamer.com/ar
X-WR-CALDESC:Events for Middle East Gamer
REFRESH-INTERVAL;VALUE=DURATION:PT1H
X-Robots-Tag:noindex
X-PUBLISHED-TTL:PT1H
BEGIN:VTIMEZONE
TZID:Asia/Dubai
BEGIN:STANDARD
TZOFFSETFROM:+0400
TZOFFSETTO:+0400
TZNAME:+04
DTSTART:20240101T000000
END:STANDARD
END:VTIMEZONE
BEGIN:VEVENT
DTSTART;TZID=Asia/Dubai:20240729T080000
DTEND;TZID=Asia/Dubai:20240809T170000
DTSTAMP:20260425T145819
CREATED:20240806T105029Z
LAST-MODIFIED:20240806T105029Z
UID:3605-1722240000-1723222800@www.middleeastgamer.com
SUMMARY:EA Sports FC Mobile Announce New Challenge
DESCRIPTION:Time to participate in a challenge with EA Sports FC Mobile! Share a video recording of the challenge with them and earn points for being one of the best players. Complete the challenge from inside FC Mobile and you can participate using the link to their Discord server.
URL:https://www.middleeastgamer.com/ar/event/ea-sports-fc-mobile-announce-new-challenge/
END:VEVENT
BEGIN:VEVENT
DTSTART;TZID=Asia/Dubai:20240723T080000
DTEND;TZID=Asia/Dubai:20240723T170000
DTSTAMP:20260425T145819
CREATED:20240628T130443Z
LAST-MODIFIED:20240628T130457Z
UID:2647-1721721600-1721754000@www.middleeastgamer.com
SUMMARY:Beirut Indie Game Festival
DESCRIPTION:Celebrate the creativity and innovation of indie game developers at the Beirut Indie Game Festival. This event showcases a variety of indie games from developers in the Middle East and beyond. Attendees can try out unique and original games\, attend developer talks\, and network with industry professionals. The festival also includes an award ceremony recognizing the best indie games in various categories.
URL:https://www.middleeastgamer.com/ar/event/beirut-indie-game-festival/
LOCATION:Dubai World Trade Centre\, Sheikh Zayed Road\, Dubai\, Dubai\, 9292\, United Arab Emirates
CATEGORIES:Esports
ATTACH;FMTTYPE=image/jpeg:https://www.middleeastgamer.com/wp-content/uploads/2024/06/best_indie_games-scaled-1.jpg
ORGANIZER;CN="Middle East Gamer":MAILTO:megrsvp@itp.com
END:VEVENT
BEGIN:VEVENT
DTSTART;TZID=Asia/Dubai:20240722T100000
DTEND;TZID=Asia/Dubai:20240816T220000
DTSTAMP:20260425T145819
CREATED:20240806T100105Z
LAST-MODIFIED:20240806T100106Z
UID:3594-1721642400-1723845600@www.middleeastgamer.com
SUMMARY:Que Clubs Announces Ascendancy League Competition
DESCRIPTION:Join Que Clubs for an epic showdown from July 22nd to August 16th. Compete in your favorite games\, win cash prizes & climb the ladder! With a prize pool of 15\,000 DHS\, the opportunities to win are endless. Sign up through the link on their Instagram and join their discord for more information!
URL:https://www.middleeastgamer.com/ar/event/que-clubs-announces-ascendancy-league-competition/
CATEGORIES:Tournament
END:VEVENT
END:VCALENDAR